BEGIN:VCALENDAR
VERSION:2.0
PRODID:-//Rund Um Dieffenbach - ECPv5.7.0//NONSGML v1.0//EN
CALSCALE:GREGORIAN
METHOD:PUBLISH
X-WR-CALNAME:Rund Um Dieffenbach
X-ORIGINAL-URL:https://rundum-dieffenbach.org
X-WR-CALDESC:évènements pour Rund Um Dieffenbach
BEGIN:VTIMEZONE
TZID:Europe/Helsinki
BEGIN:DAYLIGHT
TZOFFSETFROM:+0200
TZOFFSETTO:+0300
TZNAME:EEST
DTSTART:20260329T010000
END:DAYLIGHT
BEGIN:STANDARD
TZOFFSETFROM:+0300
TZOFFSETTO:+0200
TZNAME:EET
DTSTART:20261025T010000
END:STANDARD
END:VTIMEZONE
BEGIN:VEVENT
DTSTART;TZID=Europe/Helsinki:20260707T090000
DTEND;TZID=Europe/Helsinki:20260707T120000
DTSTAMP:20260421T154206
CREATED:20260421T082742Z
LAST-MODIFIED:20260421T083241Z
UID:214665-1783414800-1783425600@rundum-dieffenbach.org
SUMMARY:Calendrier des sorties estivales
DESCRIPTION:Dans le cadre des sorties estivales organisées par l’Office de Tourisme du Val de Villé\, RUND UM DIEFFENBACH organise cet été plusieurs balades  sur le sentier des milieux humides. Durant la balade d’une durée de 2 à 3 heures\, l’animateur pourra développer plusieurs thèmes\, allant des plantes\, fleurs\, plantes comestibles\, la genèse des milieux humides ainsi que la faune\, ou tout autre sujet. touchant notre environnement. \nLes animateurs\, naturalistes se feront un plaisir de vous guider aux dates suivantes : \n\nmardi 07 juillet 2026\nmardi 21 juillet 2026\nmardi 04 Août 2026\n\nRDV à 9h à l’entrée du sentier au départ de la rue de Neubois\, (près de la chapelle).\nSortie gratuite et ouverte à toutes et tous.\nBottes conseillées par temps humide\, chaussures de randonnée et équipement en fonction de la météo. \n\nInscription à l’office de tourisme ou par mail (le soir précédent la sortie au plus tard) : contact@rundum-dieffenbach.org \n      \n 
URL:https://rundum-dieffenbach.org/event/calendrier-des-sorties-estivales/
LOCATION:Sentier de découvertes\, route de Neubois\, Dieffenbach-au-val\, 67220\, France
CATEGORIES:sortie nature
END:VEVENT
END:VCALENDAR